BEGIN:VCALENDAR
VERSION:2.0
PRODID:-//ExpressionEngine Easy iCalendar plugin//NONSGML v2.0.1//EN
X-WR-TIMEZONE:America/Chicago
X-WR-CALNAME:Upcoming Auctions
BEGIN:VEVENT
UID:117984
DTSTAMP:20240412T120000
DTSTART:20240412T120000
DTEND:20240422T130000
SUMMARY:Surplus Equipment: Agriculture\, Fitness\, Food Service/Hotel 
 & More
LOCATION:4002 Marschall Road\, Shakopee\, MN 55379\, US
DESCRIPTION:Surplus Equipment: Agricultural (IH Tractor\, John Deere Gato
 r)\, Greenhouse/Nursery Equipment\, Fitness/Gym Equipment\, Foo
 d Service Equipment\, Dock Leveler\, Garage Doors\, Tools\, Resi
 dential Appliances\, Material Handling\, Furniture and More.
URL:https://www.auctionmasters.com/auctions/detail/bw117984
SEQUENCE:1
END:VEVENT
END:VCALENDAR