BEGIN:VCALENDAR
VERSION:2.0
PRODID:-//ExpressionEngine Easy iCalendar plugin//NONSGML v2.0.1//EN
X-WR-TIMEZONE:America/Chicago
X-WR-CALNAME:Upcoming Auctions
BEGIN:VEVENT
UID:118627
DTSTAMP:20240425T070000
DTSTART:20240425T070000
DTEND:20240506T130000
SUMMARY:Natural History Auction: Fossils\, Minerals\, Crystals\, Gems\, 
 Biologic Specimens
LOCATION:176 Central Ave\, Pacific Grove\, CA 93950\, US
DESCRIPTION:Natural History Auction: Fossils\, Minerals\, Crystals\, Gems\, 
 Biologic Specimens. All located at Casa Museo in Monterey Ca
 lifornia (shipping is available). Casa Museo was a museum\, g
 allery\, and boutique motel with three natural history-themed
  overnight lodging units.
URL:https://www.auctionmasters.com/auctions/detail/bw118627
SEQUENCE:1
END:VEVENT
END:VCALENDAR