BEGIN:VCALENDAR
VERSION:2.0
PRODID:-//ExpressionEngine Easy iCalendar plugin//NONSGML v2.0.1//EN
X-WR-TIMEZONE:America/Chicago
X-WR-CALNAME:Upcoming Auctions
BEGIN:VEVENT
UID:119619
DTSTAMP:20240425T100000
DTSTART:20240425T100000
DTEND:20240513T130000
SUMMARY:Auto Dealership: Lifts\, Shop Equipment\, Office Furniture & M
 ore
LOCATION:14700 Buck Hill Road\, Burnsville\, MN 55306\, US
DESCRIPTION:Auto Dealership: 9 Auto Lifts\, Hunter Alignment Rack/Lift\, S
 cissor Lifts\, Tire Machine\, Cuda Parts Washer\, Air Compresso
 r/Dryer\, Brake Lathe\, Shop Equipment\, Work Benches/Carts\, Pa
 rts Shelving\, Electronics\, Office/Lobby Furniture\, Break Roo
 m/Appliances and More.
URL:https://www.auctionmasters.com/auctions/detail/bw119619
SEQUENCE:1
END:VEVENT
END:VCALENDAR