BEGIN:VCALENDAR
VERSION:2.0
PRODID:-//ExpressionEngine Easy iCalendar plugin//NONSGML v2.0.1//EN
X-WR-TIMEZONE:America/Chicago
X-WR-CALNAME:Upcoming Auctions
BEGIN:VEVENT
UID:119634
DTSTAMP:20240501T140000
DTSTART:20240501T140000
DTEND:20240506T130000
SUMMARY:Restaurant/Food Service Equipment
LOCATION:14086 Northdale Blvd\, Rogers\, MN 55374\, US
DESCRIPTION:Restaurant/Food Service Equipment - Former Hardees: Kitchen 
 Equipment\, Refrigeration\, Ice Machine\, Dining Furniture\, She
 lving/Carts\, SS Tables\, Smallwares and More.
URL:https://www.auctionmasters.com/auctions/detail/bw119634
SEQUENCE:1
END:VEVENT
END:VCALENDAR