BEGIN:VCALENDAR
VERSION:2.0
PRODID:-//ExpressionEngine Easy iCalendar plugin//NONSGML v2.0.1//EN
X-WR-TIMEZONE:America/Chicago
X-WR-CALNAME:Upcoming Auctions
BEGIN:VEVENT
UID:120758
DTSTAMP:20240603T120000
DTSTART:20240603T120000
DTEND:20240619T130000
SUMMARY:Fitness/Gym Equipment
LOCATION:1583 Hamline Ave N\, Falcon Heights\, MN 55108\, US
DESCRIPTION:Fitness/Gym Equipment: Dumbbells\, Barbells\, Weight Machines\,
  Benches\, Boxing Equipment\, Rubber Flooring\, Mirrors\, Much M
 ore.
URL:https://www.auctionmasters.com/auctions/detail/bw120758
SEQUENCE:1
END:VEVENT
END:VCALENDAR