BEGIN:VCALENDAR
VERSION:2.0
PRODID:-//ExpressionEngine Easy iCalendar plugin//NONSGML v2.0.1//EN
X-WR-TIMEZONE:America/Chicago
X-WR-CALNAME:Upcoming Auctions
BEGIN:VEVENT
UID:121642
DTSTAMP:20240607T080000
DTSTART:20240607T080000
DTEND:20240626T130000
SUMMARY:KJ's Hideaway Music Venue & Restaurant/Bar
LOCATION:408 St Peter Street\, St Paul\, MN 55102\, US
DESCRIPTION:KJ's Hideaway Music Venue\, Bar and Restaurant: Yamaha C7 Gra
 nd Piano\, Audio and Stage Equipment\, Bar/Dining Furniture\, K
 itchen/Bar Equipment\, Refrigeration\, Decor and More.
URL:https://www.auctionmasters.com/auctions/detail/bw121642
SEQUENCE:1
END:VEVENT
END:VCALENDAR