BEGIN:VCALENDAR
VERSION:2.0
PRODID:-//ExpressionEngine Easy iCalendar plugin//NONSGML v2.0.1//EN
X-WR-TIMEZONE:America/Chicago
X-WR-CALNAME:Upcoming Auctions
BEGIN:VEVENT
UID:122290
DTSTAMP:20240703T070000
DTSTART:20240703T070000
DTEND:20240710T100000
SUMMARY:Multiple Restaurants Equipment
LOCATION:19150 Territorial Road\, Maple Grove\, MN 55369\, US
DESCRIPTION:Multiple Restaurants and Furnishings: Kitchen Equipment\, Mix
 ers/Slicers/VCMs\, Refrigeration\, Furniture\, Concessions/Cate
 ring\, Shelving/Carts\, Tools/Maintenance/Janitorial\, Smallwar
 es\, More. PLUS 2017 Ford Explorer!
URL:https://www.auctionmasters.com/auctions/detail/bw122290
SEQUENCE:1
END:VEVENT
END:VCALENDAR