BEGIN:VCALENDAR
VERSION:2.0
PRODID:-//ExpressionEngine Easy iCalendar plugin//NONSGML v2.0.1//EN
X-WR-TIMEZONE:America/Chicago
X-WR-CALNAME:Upcoming Auctions
BEGIN:VEVENT
UID:122291
DTSTAMP:20240701T150000
DTSTART:20240701T150000
DTEND:20240710T130000
SUMMARY:7 BBL Brewing System Equipment
LOCATION:19150 Territorial Road\, Maple Grove\, MN 55369\, US
DESCRIPTION:7 BBL Brewing System Equipment - Most equipment is NEW and n
 ever used in production: Fermenting Tanks\, Mash Tanks\, Chill
 er\, Transfer Pump\, SS Piping\, Heat Exchanger\, Keg Filler and
  More.
URL:https://www.auctionmasters.com/auctions/detail/bw122291
SEQUENCE:1
END:VEVENT
END:VCALENDAR