BEGIN:VCALENDAR
VERSION:2.0
PRODID:-//ExpressionEngine Easy iCalendar plugin//NONSGML v2.0.1//EN
X-WR-TIMEZONE:America/Chicago
X-WR-CALNAME:Upcoming Auctions
BEGIN:VEVENT
UID:123555
DTSTAMP:20240719T070000
DTSTART:20240719T070000
DTEND:20240805T130000
SUMMARY:Printing/Bindery Equipment (Bloomington\, MN)
LOCATION:1011 West 80th St\, Bloomington\, MN 55420\, US
DESCRIPTION:Printing and Bindery Equipment\, Material Handling\, Inventory
 \, Office Furniture and More.  60+ Lots have just been added
 !
URL:https://www.auctionmasters.com/auctions/detail/bw123555
SEQUENCE:1
END:VEVENT
END:VCALENDAR