BEGIN:VCALENDAR
VERSION:2.0
PRODID:-//ExpressionEngine Easy iCalendar plugin//NONSGML v2.0.1//EN
X-WR-TIMEZONE:America/Chicago
X-WR-CALNAME:Upcoming Auctions
BEGIN:VEVENT
UID:123642
DTSTAMP:20240709T130000
DTSTART:20240709T130000
DTEND:20240729T130000
SUMMARY:Playground Structure
LOCATION:23810 Dewey St NW\, Bethel\, MN 55005\, US
DESCRIPTION:Playground Structure.
URL:https://www.auctionmasters.com/auctions/detail/bw123642
SEQUENCE:1
END:VEVENT
END:VCALENDAR