BEGIN:VCALENDAR
VERSION:2.0
PRODID:-//ExpressionEngine Easy iCalendar plugin//NONSGML v2.0.1//EN
X-WR-TIMEZONE:America/Chicago
X-WR-CALNAME:Upcoming Auctions
BEGIN:VEVENT
UID:123646
DTSTAMP:20240710T140000
DTSTART:20240710T140000
DTEND:20240731T130000
SUMMARY:Woodworking Equipment\, Trailer\, Lawn/Garden & More
LOCATION:5155 Larch Lane N\, Plymouth\, MN 55442\, US
DESCRIPTION:Woodworking Tools and Equipment\, Utility Trailer\, Saws\, Air 
 Compressors\, Routers\, Lawn and Garden Equipment\, Hand/Power 
 Tools\, Ladders\, Wood Inventory and More.
URL:https://www.auctionmasters.com/auctions/detail/bw123646
SEQUENCE:1
END:VEVENT
END:VCALENDAR