BEGIN:VCALENDAR
VERSION:2.0
PRODID:-//ExpressionEngine Easy iCalendar plugin//NONSGML v2.0.1//EN
X-WR-TIMEZONE:America/Chicago
X-WR-CALNAME:Upcoming Auctions
BEGIN:VEVENT
UID:124612
DTSTAMP:20240726T100000
DTSTART:20240726T100000
DTEND:20240807T130000
SUMMARY:Vehicles\, Boats\, Motorcycles and Trailers
LOCATION:19150 Territorial Road\, Maple Grove\, MN 55369\, US
DESCRIPTION:Vehicles\, Boats\, Motorcycles and Trailers: '08 Ford F-150\, '
 08 Chevy Suburban\, '01 GMC Yukon\, '12 Chevy Equinox\, '85 4 W
 inn Cabin Cruiser\, '58 Cruiser Runabout\, Lund 14'\, Enclosed 
 Trailer\, '03 Harley Davidson\, 03' Honda Shadow and More.
URL:https://www.auctionmasters.com/auctions/detail/bw124612
SEQUENCE:1
END:VEVENT
END:VCALENDAR