BEGIN:VCALENDAR
VERSION:2.0
PRODID:-//ExpressionEngine Easy iCalendar plugin//NONSGML v2.0.1//EN
X-WR-TIMEZONE:America/Chicago
X-WR-CALNAME:Upcoming Auctions
BEGIN:VEVENT
UID:124989
DTSTAMP:20240809T090000
DTSTART:20240809T090000
DTEND:20240828T130000
SUMMARY:Electrical Contractor & Bulb/Lighting Retail Store
LOCATION:57 Birch Ave S\, Maple Lake\, MN 55358\, US
DESCRIPTION:Electrical Contractor and Lighting Store: '16 Chevy Work Van
 \, '99 Ford Boom Truck\, 2 Skyjack Scissor Lifts\, Glastron Boa
 t and Trailer\, Contractor Tools and Equipment\, Material Hand
 ling\, Electrical Inventory. Retail Store including Bulbs\, Fi
 xtures\, Lamp Repair Inventory\, Electrical Supplies\, Retail S
 helving\, Offices\, Quantum Electric Wheelchair and More.
URL:https://www.auctionmasters.com/auctions/detail/bw124989
SEQUENCE:1
END:VEVENT
END:VCALENDAR