BEGIN:VCALENDAR
VERSION:2.0
PRODID:-//ExpressionEngine Easy iCalendar plugin//NONSGML v2.0.1//EN
X-WR-TIMEZONE:America/Chicago
X-WR-CALNAME:Upcoming Auctions
BEGIN:VEVENT
UID:126081
DTSTAMP:20240821T120000
DTSTART:20240821T120000
DTEND:20240828T100000
SUMMARY:Restaurant/Bar/Catering Equipment
LOCATION:19150 Territorial Road\, Maple Grove\, MN 55369\, US
DESCRIPTION:Restaurant\, Bar\, Catering Equipment: Kitchen Equipment\, Refr
 igeration\, Buffets (Hot/Cold)\, Portable Bars\, Mini Donut Mac
 hine\, Ice Machines\, SS Tables/Sinks/Underbar\, Dining/Patio F
 urniture\, Shelving\, Carts\, Smallwares and More.
URL:https://www.auctionmasters.com/auctions/detail/bw126081
SEQUENCE:1
END:VEVENT
END:VCALENDAR