BEGIN:VCALENDAR
VERSION:2.0
PRODID:-//ExpressionEngine Easy iCalendar plugin//NONSGML v2.0.1//EN
X-WR-TIMEZONE:America/Chicago
X-WR-CALNAME:Upcoming Auctions
BEGIN:VEVENT
UID:126103
DTSTAMP:20240821T110000
DTSTART:20240821T110000
DTEND:20240828T130000
SUMMARY:Mulch: 75+ Pallets
LOCATION:19150 Territorial Road\, Maple Grove\, MN 55369\, US
DESCRIPTION:75+ Pallets Mulch - Assorted Colors.
URL:https://www.auctionmasters.com/auctions/detail/bw126103
SEQUENCE:1
END:VEVENT
END:VCALENDAR