BEGIN:VCALENDAR
VERSION:2.0
PRODID:-//ExpressionEngine Easy iCalendar plugin//NONSGML v2.0.1//EN
X-WR-TIMEZONE:America/Chicago
X-WR-CALNAME:Upcoming Auctions
BEGIN:VEVENT
UID:126294
DTSTAMP:20240822T080000
DTSTART:20240822T080000
DTEND:20240903T130000
SUMMARY:Fitness Equipment
LOCATION:822 W. 98th Street\, Bloomington\, MN 55420\, US
DESCRIPTION:Surplus Fitness Equipment - Cardio and Weight Equipment.
URL:https://www.auctionmasters.com/auctions/detail/bw126294
SEQUENCE:1
END:VEVENT
END:VCALENDAR