BEGIN:VCALENDAR
VERSION:2.0
PRODID:-//ExpressionEngine Easy iCalendar plugin//NONSGML v2.0.1//EN
X-WR-TIMEZONE:America/Chicago
X-WR-CALNAME:Upcoming Auctions
BEGIN:VEVENT
UID:127406
DTSTAMP:20240920T090000
DTSTART:20240920T090000
DTEND:20240930T130000
SUMMARY:Tools\, Trucks\, Farm Implements & More
LOCATION:10045 Jamaca Ave N\, St Paul\, MN 55115\, US
DESCRIPTION:Estate: Tools\, Trucks\, Tractor\, Farm Implements\, Lawn and Ga
 rden\, Boat Motors/Fishing Gear\, Home Goods and More.
URL:https://www.auctionmasters.com/auctions/detail/bw127406
SEQUENCE:1
END:VEVENT
END:VCALENDAR