BEGIN:VCALENDAR
VERSION:2.0
PRODID:-//ExpressionEngine Easy iCalendar plugin//NONSGML v2.0.1//EN
X-WR-TIMEZONE:America/Chicago
X-WR-CALNAME:Upcoming Auctions
BEGIN:VEVENT
UID:127596
DTSTAMP:20250305T130000
DTSTART:20250305T130000
DTEND:20250317T130000
SUMMARY:Huge Hat Inventory Liquidation - OVER 44\,000!
LOCATION:11333 91st Ave N\, Maple Grove\, MN 55369\, US
DESCRIPTION:Huge Hat Inventory - Over 44\,000 - Dozens of different colo
 rs and styles!
URL:https://www.auctionmasters.com/auctions/detail/bw127596
SEQUENCE:1
END:VEVENT
END:VCALENDAR