BEGIN:VCALENDAR
VERSION:2.0
PRODID:-//ExpressionEngine Easy iCalendar plugin//NONSGML v2.0.1//EN
X-WR-TIMEZONE:America/Chicago
X-WR-CALNAME:Upcoming Auctions
BEGIN:VEVENT
UID:128455
DTSTAMP:20241002T100000
DTSTART:20241002T100000
DTEND:20241008T183000
SUMMARY:Trees: Black Hills\, White Pines\, More
LOCATION:19150 Territorial Road\, Maple Grove\, MN 55369\, US
DESCRIPTION:Trees: Black Hills Spruce\, White Pine and Balsam Fir\, More.
URL:https://www.auctionmasters.com/auctions/detail/bw128455
SEQUENCE:1
END:VEVENT
END:VCALENDAR