BEGIN:VCALENDAR
VERSION:2.0
PRODID:-//ExpressionEngine Easy iCalendar plugin//NONSGML v2.0.1//EN
X-WR-TIMEZONE:America/Chicago
X-WR-CALNAME:Upcoming Auctions
BEGIN:VEVENT
UID:129313
DTSTAMP:20241011T090000
DTSTART:20241011T090000
DTEND:20241028T130000
SUMMARY:Seized Storage Unit: Tools\, Material Handling\, Much More
LOCATION:13455 Louisville Road\, Shakopee\, MN 55379\, US
DESCRIPTION:Seized Storage Unit: Hand/Power Tools\, Ladders\, Pallet Racki
 ng/Shelving\, Electric Pallet Jacks\, Snow Blowers\, Much More.
URL:https://www.auctionmasters.com/auctions/detail/bw129313
SEQUENCE:1
END:VEVENT
END:VCALENDAR