BEGIN:VCALENDAR
VERSION:2.0
PRODID:-//ExpressionEngine Easy iCalendar plugin//NONSGML v2.0.1//EN
X-WR-TIMEZONE:America/Chicago
X-WR-CALNAME:Upcoming Auctions
BEGIN:VEVENT
UID:129322
DTSTAMP:20241015T080000
DTSTART:20241015T080000
DTEND:20241103T180000
SUMMARY:Quiznos Sandwich Shop Liquidation
LOCATION:232 Pioneer Trail\, Chaska\, MN 55318\, US
DESCRIPTION:Quiznos Sandwich Shop Equipment and Furnishings: Refrigerate
 d Prep Tables\, Walk In Cooler and Freezer\, Turbo Chef Convey
 or Oven\, Hobart Slicer\, SS Tables/Sinks\, Dining Furniture\, I
 ce Machine\, Shelving\, Smallwares and More.
URL:https://www.auctionmasters.com/auctions/detail/bw129322
SEQUENCE:1
END:VEVENT
END:VCALENDAR