BEGIN:VCALENDAR
VERSION:2.0
PRODID:-//ExpressionEngine Easy iCalendar plugin//NONSGML v2.0.1//EN
X-WR-TIMEZONE:America/Chicago
X-WR-CALNAME:Upcoming Auctions
BEGIN:VEVENT
UID:129883
DTSTAMP:20241022T120000
DTSTART:20241022T120000
DTEND:20241028T130000
SUMMARY:Surplus Fitness Equipment & More (Relocation Auction #2)
LOCATION:822 W. 98th Street\, Bloomington\, MN 55420\, US
DESCRIPTION:Relocation Auction: Fitness Equipment and More.
URL:https://www.auctionmasters.com/auctions/detail/bw129883
SEQUENCE:1
END:VEVENT
END:VCALENDAR