BEGIN:VCALENDAR
VERSION:2.0
PRODID:-//ExpressionEngine Easy iCalendar plugin//NONSGML v2.0.1//EN
X-WR-TIMEZONE:America/Chicago
X-WR-CALNAME:Upcoming Auctions
BEGIN:VEVENT
UID:129891
DTSTAMP:20241025T090000
DTSTART:20241025T090000
DTEND:20241111T130000
SUMMARY:Classic Cars\, Trucks\, Trailers & Tractors
LOCATION:29730 130th Ave\, Welch\, MN 55089\, US
DESCRIPTION:Estate: Classic Cars/Trucks\, Dump Truck\, Equipment Trailers\,
  Horse Trailer\, Vintage Tractors\, Farm Equipment\, Boats\, Boa
 t Motors\, Recreational Vehicles\, Tools and More.
URL:https://www.auctionmasters.com/auctions/detail/bw129891
SEQUENCE:1
END:VEVENT
END:VCALENDAR