BEGIN:VCALENDAR
VERSION:2.0
PRODID:-//ExpressionEngine Easy iCalendar plugin//NONSGML v2.0.1//EN
X-WR-TIMEZONE:America/Chicago
X-WR-CALNAME:Upcoming Auctions
BEGIN:VEVENT
UID:130082
DTSTAMP:20241025T080000
DTSTART:20241025T080000
DTEND:20241104T130000
SUMMARY:Collectibles\, Lawn/Garden\, Tools & More
LOCATION:540 Old Crystal Bay Rd South\, Orono\, MN 55356\, US
DESCRIPTION:Collectibles\, Lawn/Garden\, Tools\, Poplar Wood Trim\, Antique 
 Tools\, State Fair Booth Signs\, Brown Jorden Patio Furniture
 \, Dog Collar Business\, Beer Mugs\, Garden Trailers\, Mexica
 n Masks\, Tire Changer and More.
URL:https://www.auctionmasters.com/auctions/detail/bw130082
SEQUENCE:1
END:VEVENT
END:VCALENDAR