BEGIN:VCALENDAR
VERSION:2.0
PRODID:-//ExpressionEngine Easy iCalendar plugin//NONSGML v2.0.1//EN
X-WR-TIMEZONE:America/Chicago
X-WR-CALNAME:Upcoming Auctions
BEGIN:VEVENT
UID:130840
DTSTAMP:20241107T080000
DTSTART:20241107T080000
DTEND:20241117T180000
SUMMARY:Lapidary: Agates\, Crystals\, Minerals & More
LOCATION:2229 County Road 5 NW\, Annandale\, MN 55302\, US
DESCRIPTION:Large variety of rocks\, crystals and minerals including sphe
 res\, free forms\, hearts\, rare specimens\, carvings\, clusters\,
  show pieces and more.  New finds from the 2024 Denver Gem
  Show.
URL:https://www.auctionmasters.com/auctions/detail/bw130840
SEQUENCE:1
END:VEVENT
END:VCALENDAR