BEGIN:VCALENDAR
VERSION:2.0
PRODID:-//ExpressionEngine Easy iCalendar plugin//NONSGML v2.0.1//EN
X-WR-TIMEZONE:America/Chicago
X-WR-CALNAME:Upcoming Auctions
BEGIN:VEVENT
UID:131044
DTSTAMP:20241203T080000
DTSTART:20241203T080000
DTEND:20241211T130000
SUMMARY:Tattersall Cocktail Room NE
LOCATION:1620 Central Ave NE #150\, Minneapolis\, MN 55413\, US
DESCRIPTION:Tattersall Craft Cocktail Room NE Equipment: Bar/Dining Furn
 iture\, Refrigeration\, Kitchen/Bar Goods\, Reverse Osmosis Sys
 tem\, Hyster Forklift\, SS Tables/Sinks/Underbar\, Ice Machine\,
  Distillery/Brewing Equipment\, More.
URL:https://www.auctionmasters.com/auctions/detail/bw131044
SEQUENCE:1
END:VEVENT
END:VCALENDAR