BEGIN:VCALENDAR
VERSION:2.0
PRODID:-//ExpressionEngine Easy iCalendar plugin//NONSGML v2.0.1//EN
X-WR-TIMEZONE:America/Chicago
X-WR-CALNAME:Upcoming Auctions
BEGIN:VEVENT
UID:131114
DTSTAMP:20241205T090000
DTSTART:20241205T090000
DTEND:20241216T130000
SUMMARY:Industrial Supplies\, Material Handling & More
LOCATION:1979 Cty Rd C2 W\, St Paul\, MN 55113\, US
DESCRIPTION:Industrial Supplies:  Pallet Racking\, Mezzanine Structure\, 
 New Inventory\, Tools\, Material Handling\, More.
URL:https://www.auctionmasters.com/auctions/detail/bw131114
SEQUENCE:1
END:VEVENT
END:VCALENDAR