BEGIN:VCALENDAR
VERSION:2.0
PRODID:-//ExpressionEngine Easy iCalendar plugin//NONSGML v2.0.1//EN
X-WR-TIMEZONE:America/Chicago
X-WR-CALNAME:Upcoming Auctions
BEGIN:VEVENT
UID:132240
DTSTAMP:20241215T080000
DTSTART:20241215T080000
DTEND:20241222T130000
SUMMARY:Bub's Aussie Gourmet Pies
LOCATION:9939 Hudson Blvd N\, Lake Elmo\, MN 55042\, US
DESCRIPTION:Bub's Aussie Gourmet Pies Liquidation: Equipment about 4 yea
 rs old!  Refrigeration\, Nuova Simonelli Espresso Machine an
 d Grinder\, Hobart 80 Qt. Mixer\, Dough Sheeter\, Sveba Dahlen 
 Roll-In Oven\, Irinox Roll-In Blast Chiller\, Kitchen Equipmen
 t\, Ice Machine\, SS Tables/Sink\, Shelving/Carts\, Furniture\, S
 mallwares and More.
URL:https://www.auctionmasters.com/auctions/detail/bw132240
SEQUENCE:1
END:VEVENT
END:VCALENDAR