BEGIN:VCALENDAR
VERSION:2.0
PRODID:-//ExpressionEngine Easy iCalendar plugin//NONSGML v2.0.1//EN
X-WR-TIMEZONE:America/Chicago
X-WR-CALNAME:Upcoming Auctions
BEGIN:VEVENT
UID:132314
DTSTAMP:20241221T080000
DTSTART:20241221T080000
DTEND:20250106T130000
SUMMARY:Brewing Equipment & Vehicles
LOCATION:570 Humbolt Dr\, Suite 107\, Big Lake\, MN 55309\, US
DESCRIPTION:Brewing Equipment: 10 BBL Brewhouse\, 40 Line Draft System\, 5
  Delivery Vans.
URL:https://www.auctionmasters.com/auctions/detail/bw132314
SEQUENCE:1
END:VEVENT
END:VCALENDAR