BEGIN:VCALENDAR
VERSION:2.0
PRODID:-//ExpressionEngine Easy iCalendar plugin//NONSGML v2.0.1//EN
X-WR-TIMEZONE:America/Chicago
X-WR-CALNAME:Upcoming Auctions
BEGIN:VEVENT
UID:132640
DTSTAMP:20241219T130000
DTSTART:20241219T130000
DTEND:20250106T130000
SUMMARY:Restaurant Equipment & Furnishings
LOCATION:2534 Rice Street\, St Paul\, MN 55113\, US
DESCRIPTION:Restaurant Equipment (Flameburger is moving to a new locati
 on): Kitchen Equipment\, Refrigeration\, Ice Machines\, SS Tabl
 es/Sinks\, Dining Furniture\, Outdoor Pergola\, Smallwares\, Mor
 e.
URL:https://www.auctionmasters.com/auctions/detail/bw132640
SEQUENCE:1
END:VEVENT
END:VCALENDAR