BEGIN:VCALENDAR
VERSION:2.0
PRODID:-//ExpressionEngine Easy iCalendar plugin//NONSGML v2.0.1//EN
X-WR-TIMEZONE:America/Chicago
X-WR-CALNAME:Upcoming Auctions
BEGIN:VEVENT
UID:133388
DTSTAMP:20250103T070000
DTSTART:20250103T070000
DTEND:20250113T130000
SUMMARY:Salon Equipment\, Furniture & More
LOCATION:1221 W Lake Street #108\, Minneapolis\, MN 55408\, US
DESCRIPTION:Salon Relocation Auction: Salon Equipment\, Furniture\, Decor 
 and More.
URL:https://www.auctionmasters.com/auctions/detail/bw133388
SEQUENCE:1
END:VEVENT
END:VCALENDAR