BEGIN:VCALENDAR
VERSION:2.0
PRODID:-//ExpressionEngine Easy iCalendar plugin//NONSGML v2.0.1//EN
X-WR-TIMEZONE:America/Chicago
X-WR-CALNAME:Upcoming Auctions
BEGIN:VEVENT
UID:133491
DTSTAMP:20250106T120000
DTSTART:20250106T120000
DTEND:20250115T130000
SUMMARY:2015 Ford Transit & 2012 Toyota Prius
LOCATION:19150 Territorial Road\, Maple Grove\, MN 55369\, US
DESCRIPTION:2015 Ford Transit and 2012 Toyota Prius
URL:https://www.auctionmasters.com/auctions/detail/bw133491
SEQUENCE:1
END:VEVENT
END:VCALENDAR