BEGIN:VCALENDAR
VERSION:2.0
PRODID:-//ExpressionEngine Easy iCalendar plugin//NONSGML v2.0.1//EN
X-WR-TIMEZONE:America/Chicago
X-WR-CALNAME:Upcoming Auctions
BEGIN:VEVENT
UID:133707
DTSTAMP:20250116T070000
DTSTART:20250116T070000
DTEND:20250127T130000
SUMMARY:Bistro\, Coffee & Wine Bar Liquidation
LOCATION:4237 Nicollet Ave\, Minneapolis\, MN 55409\, US
DESCRIPTION:Bistro\, Coffee and Wine Bar Liquidation - Equipment about 3 
 years old!  Refrigeration\, Kitchen Equipment\, Dish Washers\,
  Ice Machine\, Coffee Equipment\, Dining/Patio Furniture\, Shel
 ving/Carts\, Smallwares\, More.
URL:https://www.auctionmasters.com/auctions/detail/bw133707
SEQUENCE:1
END:VEVENT
END:VCALENDAR