BEGIN:VCALENDAR
VERSION:2.0
PRODID:-//ExpressionEngine Easy iCalendar plugin//NONSGML v2.0.1//EN
X-WR-TIMEZONE:America/Chicago
X-WR-CALNAME:Upcoming Auctions
BEGIN:VEVENT
UID:133723
DTSTAMP:20250116T130000
DTSTART:20250116T130000
DTEND:20250129T130000
SUMMARY:Cafe/Coffee Shop Equipment & Furnishings
LOCATION:9578 Noble Pkwy\, Brooklyn Park\, MN 55443\, US
DESCRIPTION:Cafe/Coffee Shop Equipment & Furnishings: Coffee Equipment\, 
 Kitchen Equipment\, Refrigeration\, SS Tables/Sinks\, Shelving\,
  Dining Furniture\, Smallwares\, Enclosed Trailer and More.
URL:https://www.auctionmasters.com/auctions/detail/bw133723
SEQUENCE:1
END:VEVENT
END:VCALENDAR