BEGIN:VCALENDAR
VERSION:2.0
PRODID:-//ExpressionEngine Easy iCalendar plugin//NONSGML v2.0.1//EN
X-WR-TIMEZONE:America/Chicago
X-WR-CALNAME:Upcoming Auctions
BEGIN:VEVENT
UID:134152
DTSTAMP:20250117T130000
DTSTART:20250117T130000
DTEND:20250127T130000
SUMMARY:Wood Flooring & More
LOCATION:19150 Territorial Road\, Maple Grove\, MN 55369\, US
DESCRIPTION:40+ Pallets Douglas Fir Wood Flooring and More.
URL:https://www.auctionmasters.com/auctions/detail/bw134152
SEQUENCE:1
END:VEVENT
END:VCALENDAR