BEGIN:VCALENDAR
VERSION:2.0
PRODID:-//ExpressionEngine Easy iCalendar plugin//NONSGML v2.0.1//EN
X-WR-TIMEZONE:America/Chicago
X-WR-CALNAME:Upcoming Auctions
BEGIN:VEVENT
UID:135605
DTSTAMP:20250216T140000
DTSTART:20250216T140000
DTEND:20250224T130000
SUMMARY:Wood Flooring & More
LOCATION:19150 Territorial Road\, Maple Grove\, MN 55369\, US
DESCRIPTION:60+ Pallets Douglas Fir and Hemlock Wood Flooring and More.
URL:https://www.auctionmasters.com/auctions/detail/bw135605
SEQUENCE:1
END:VEVENT
END:VCALENDAR