BEGIN:VCALENDAR
VERSION:2.0
PRODID:-//ExpressionEngine Easy iCalendar plugin//NONSGML v2.0.1//EN
X-WR-TIMEZONE:America/Chicago
X-WR-CALNAME:Upcoming Auctions
BEGIN:VEVENT
UID:135820
DTSTAMP:20250228T110000
DTSTART:20250228T110000
DTEND:20250318T130000
SUMMARY:New Costume & Designer Jewelry - Over 8\,500 Items!
LOCATION:19150 Territorial Road\, Maple Grove\, MN 55369\, US
DESCRIPTION:New Costume and Designer Jewelry - Over 8\,500 Total Items\, 
 Over 100 Different items including Necklaces\, Bracelets\, Cha
 ins\, Pendants\, Earrings and More.
URL:https://www.auctionmasters.com/auctions/detail/bw135820
SEQUENCE:1
END:VEVENT
END:VCALENDAR