BEGIN:VCALENDAR
VERSION:2.0
PRODID:-//ExpressionEngine Easy iCalendar plugin//NONSGML v2.0.1//EN
X-WR-TIMEZONE:America/Chicago
X-WR-CALNAME:Upcoming Auctions
BEGIN:VEVENT
UID:137306
DTSTAMP:20250321T080000
DTSTART:20250321T080000
DTEND:20250403T190000
SUMMARY:Lapidary: Agates\, Fossils\, Equipment & More
LOCATION:1003 Main Street\, Beaver Bay\, MN 55601\, US
DESCRIPTION:Lapidary: Equipment\, Agates\, Thomsonite\, Faceted Stones\, Ame
 thyst and much more.
URL:https://www.auctionmasters.com/auctions/detail/bw137306
SEQUENCE:1
END:VEVENT
END:VCALENDAR