BEGIN:VCALENDAR
VERSION:2.0
PRODID:-//ExpressionEngine Easy iCalendar plugin//NONSGML v2.0.1//EN
X-WR-TIMEZONE:America/Chicago
X-WR-CALNAME:Upcoming Auctions
BEGIN:VEVENT
UID:137988
DTSTAMP:20250408T130000
DTSTART:20250408T130000
DTEND:20250416T130000
SUMMARY:Huge Hat Inventory Liquidation - Over 35\,000!
LOCATION:11333 91st Ave N\, Maple Grove\, MN 55369\, US
DESCRIPTION:Huge Hat Inventory - Over 35\,000 - Dozens of different color
 s and styles!
URL:https://www.auctionmasters.com/auctions/detail/bw137988
SEQUENCE:1
END:VEVENT
END:VCALENDAR