BEGIN:VCALENDAR
VERSION:2.0
PRODID:-//ExpressionEngine Easy iCalendar plugin//NONSGML v2.0.1//EN
X-WR-TIMEZONE:America/Chicago
X-WR-CALNAME:Upcoming Auctions
BEGIN:VEVENT
UID:139124
DTSTAMP:20250418T180000
DTSTART:20250418T180000
DTEND:20250505T130000
SUMMARY:Street Cafe/Parklet Structure
LOCATION:331 13th Ave NE\, Minneapolis\, MN 55413\, US
DESCRIPTION:Street Cafe/Parklet Wood 32' Structure
URL:https://www.auctionmasters.com/auctions/detail/bw139124
SEQUENCE:1
END:VEVENT
END:VCALENDAR