BEGIN:VCALENDAR
VERSION:2.0
PRODID:-//ExpressionEngine Easy iCalendar plugin//NONSGML v2.0.1//EN
X-WR-TIMEZONE:America/Chicago
X-WR-CALNAME:Upcoming Auctions
BEGIN:VEVENT
UID:139230
DTSTAMP:20250429T120000
DTSTART:20250429T120000
DTEND:20250506T183000
SUMMARY:Trees: Black Hills\, White Pines\, More
LOCATION:19150 Territorial Road\, Maple Grove\, MN 55369\, US
DESCRIPTION:100+ Trees: Black Hills Spruce\, White Pines\, Balsam Fir\, Map
 les\, Flowering Crab and More
URL:https://www.auctionmasters.com/auctions/detail/bw139230
SEQUENCE:1
END:VEVENT
END:VCALENDAR