BEGIN:VCALENDAR
VERSION:2.0
PRODID:-//ExpressionEngine Easy iCalendar plugin//NONSGML v2.0.1//EN
X-WR-TIMEZONE:America/Chicago
X-WR-CALNAME:Upcoming Auctions
BEGIN:VEVENT
UID:139864
DTSTAMP:20250506T040000
DTSTART:20250506T040000
DTEND:20250519T130000
SUMMARY:Surplus Equipment\, Furniture\, Fitness\, Appliances & More
LOCATION:4002 Marschall Road\, Shakopee\, MN 55379\, US
DESCRIPTION:Surplus Equipment: Norland Bottling Equipment\, Turfco Aerato
 r\, Fitness Equipment\, Patio Furniture\, Office Furniture\, Hot
 el Furniture\, Lockers\, More.
URL:https://www.auctionmasters.com/auctions/detail/bw139864
SEQUENCE:1
END:VEVENT
END:VCALENDAR