BEGIN:VCALENDAR
VERSION:2.0
PRODID:-//ExpressionEngine Easy iCalendar plugin//NONSGML v2.0.1//EN
X-WR-TIMEZONE:America/Chicago
X-WR-CALNAME:Upcoming Auctions
BEGIN:VEVENT
UID:139865
DTSTAMP:20250502T100000
DTSTART:20250502T100000
DTEND:20250520T130000
SUMMARY:Harley Davidson Parts Inventory\, Building Structure & More
LOCATION:6105 Vicksburg Ln\, Plymouth\, MN 55446\, US
DESCRIPTION:Huge Harley Davidson Parts Inventory\, Chief Steel Building S
 tructure\, Snow Plow\, Shelving and More
URL:https://www.auctionmasters.com/auctions/detail/bw139865
SEQUENCE:1
END:VEVENT
END:VCALENDAR