BEGIN:VCALENDAR
VERSION:2.0
PRODID:-//ExpressionEngine Easy iCalendar plugin//NONSGML v2.0.1//EN
X-WR-TIMEZONE:America/Chicago
X-WR-CALNAME:Upcoming Auctions
BEGIN:VEVENT
UID:141158
DTSTAMP:20250526T130000
DTSTART:20250526T130000
DTEND:20250605T130000
SUMMARY:Lumber: Western Red Cedar & More
LOCATION:19150 Territorial Road\, Maple Grove\, MN 55369\, US
DESCRIPTION:Pallets Lumber: Western Red Cedar and Cedar Fence Boards.
URL:https://www.auctionmasters.com/auctions/detail/bw141158
SEQUENCE:1
END:VEVENT
END:VCALENDAR