BEGIN:VCALENDAR
VERSION:2.0
PRODID:-//ExpressionEngine Easy iCalendar plugin//NONSGML v2.0.1//EN
X-WR-TIMEZONE:America/Chicago
X-WR-CALNAME:Upcoming Auctions
BEGIN:VEVENT
UID:141605
DTSTAMP:20250606T090000
DTSTART:20250606T090000
DTEND:20250623T130000
SUMMARY:Concrete Contractor: Bobcat\, Trucks\, Tools & More
LOCATION:714 18 1/2 Ave NE\, Minneapolis\, MN 55418\, US
DESCRIPTION:Concrete/General Contractor: Bobcat S160 Turbo\, 2007 Interna
 tional Dump Truck\, 1990 International Dup Truck\, 2007 Chevy 
 3500 Truck\, Concrete Saws\, Concrete Tools\, Air Compressors\, 
 Automotive Tools\, Tool Boxes\, Office Furniture\, Framed Print
 s\, More.
URL:https://www.auctionmasters.com/auctions/detail/bw141605
SEQUENCE:1
END:VEVENT
END:VCALENDAR