BEGIN:VCALENDAR
VERSION:2.0
PRODID:-//ExpressionEngine Easy iCalendar plugin//NONSGML v2.0.1//EN
X-WR-TIMEZONE:America/Chicago
X-WR-CALNAME:Upcoming Auctions
BEGIN:VEVENT
UID:143693
DTSTAMP:20250813T130000
DTSTART:20250813T130000
DTEND:20250820T180000
SUMMARY:Vintage Snowmobiles\, Advertising & Memorabilia
LOCATION:19150 Territorial Road\, Maple Grove\, MN 55369\, US
DESCRIPTION:Vintage Snowmobiles\, Advertising and Memorabilia: 40 Snowmo
 biles\, Cutters/Trailers\, Signs/Banners\, Clothing/Jackets/Hel
 mets\, NOS Parts\, Oil Cans\, Toys\, Literature/Manuals/Brochure
 s and More.
URL:https://www.auctionmasters.com/auctions/detail/bw143693
SEQUENCE:1
END:VEVENT
END:VCALENDAR