BEGIN:VCALENDAR
VERSION:2.0
PRODID:-//ExpressionEngine Easy iCalendar plugin//NONSGML v2.0.1//EN
X-WR-TIMEZONE:America/Chicago
X-WR-CALNAME:Upcoming Auctions
BEGIN:VEVENT
UID:145139
DTSTAMP:20250909T130000
DTSTART:20250909T130000
DTEND:20250916T100000
SUMMARY:Multiple Restaurants Equipment & Furnishings
LOCATION:19150 Territorial Road\, Maple Grove\, MN 55369\, US
DESCRIPTION:Multiple Restaurants Equipment and Furnishings: Crustless Sa
 ndwich Production Line\, Dumpling Making Machine\, Kitchen Equ
 ipment\, Slicers\, Mixers\, Refrigeration\, SS Tables/Sinks\, She
 lving/Carts\, Furniture (Bar\, Dining\, Patio)\, Signs/Decor\, Sm
 allwares and More.
URL:https://www.auctionmasters.com/auctions/detail/bw145139
SEQUENCE:1
END:VEVENT
END:VCALENDAR