BEGIN:VCALENDAR
VERSION:2.0
PRODID:-//ExpressionEngine Easy iCalendar plugin//NONSGML v2.0.1//EN
X-WR-TIMEZONE:America/Chicago
X-WR-CALNAME:Upcoming Auctions
BEGIN:VEVENT
UID:145141
DTSTAMP:20250805T130000
DTSTART:20250805T130000
DTEND:20250818T130000
SUMMARY:Furniture & More
LOCATION:19150 Territorial Road\, Maple Grove\, MN 55369\, US
DESCRIPTION:Furniture\, Mattresses\, Luggage and More. A note about these 
 products: The items are mix of returns\, canceled orders\, a
 nd comfort exchanges. Items have been cleaned\, re-bagged\, s
 witches on furniture replaced\, etc.  At most there may be s
 ome small dirt marks or a patch on the bottom of the mattres
 s.  Please come and inspect.
URL:https://www.auctionmasters.com/auctions/detail/bw145141
SEQUENCE:1
END:VEVENT
END:VCALENDAR