BEGIN:VCALENDAR
VERSION:2.0
PRODID:-//ExpressionEngine Easy iCalendar plugin//NONSGML v2.0.1//EN
X-WR-TIMEZONE:America/Chicago
X-WR-CALNAME:Upcoming Auctions
BEGIN:VEVENT
UID:145295
DTSTAMP:20250731T110000
DTSTART:20250731T110000
DTEND:20250818T130000
SUMMARY:Pre Fab Tiny House\, Shipping Containers\, Building Materials 
 & More
LOCATION:475 Old Hwy 8 NW\, Suite 111\, New Brighton\, MN 55112\, US
DESCRIPTION:Pre Fab Tiny House\, 2 Shipping Containers\, Building Material
 s\, Furniture and More.
URL:https://www.auctionmasters.com/auctions/detail/bw145295
SEQUENCE:1
END:VEVENT
END:VCALENDAR