BEGIN:VCALENDAR
VERSION:2.0
PRODID:-//ExpressionEngine Easy iCalendar plugin//NONSGML v2.0.1//EN
X-WR-TIMEZONE:America/Chicago
X-WR-CALNAME:Upcoming Auctions
BEGIN:VEVENT
UID:145437
DTSTAMP:20250806T090000
DTSTART:20250806T090000
DTEND:20250819T130000
SUMMARY:Industrial Woodworking Equipment & Related
LOCATION:1005 16th Ave S\, Princeton\, MN 55371\, US
DESCRIPTION:Industrial Woodworking/Cabinet Shop Equipment: CNC Equipment
 \, Dust Collectors\, Welders (Robotic Welder)\, Forming Oven\, 
 Cardboard Baler\, Hand/Power Tools\, Material Handling\, Lift T
 ables\, Inventory (Cabinet Lumber\, Edge Banding\, Hardware)\, H
 air Salon Equipment and More.
URL:https://www.auctionmasters.com/auctions/detail/bw145437
SEQUENCE:1
END:VEVENT
END:VCALENDAR